BEGIN:VCALENDAR
VERSION:2.0
PRODID:-//Tech.mt - ECPv6.15.20//NONSGML v1.0//EN
CALSCALE:GREGORIAN
METHOD:PUBLISH
X-WR-CALNAME:Tech.mt
X-ORIGINAL-URL:https://tech.mt
X-WR-CALDESC:Events for Tech.mt
REFRESH-INTERVAL;VALUE=DURATION:PT1H
X-Robots-Tag:noindex
X-PUBLISHED-TTL:PT1H
BEGIN:VTIMEZONE
TZID:Europe/Malta
BEGIN:DAYLIGHT
TZOFFSETFROM:+0100
TZOFFSETTO:+0200
TZNAME:CEST
DTSTART:20200329T010000
END:DAYLIGHT
BEGIN:STANDARD
TZOFFSETFROM:+0200
TZOFFSETTO:+0100
TZNAME:CET
DTSTART:20201025T010000
END:STANDARD
BEGIN:DAYLIGHT
TZOFFSETFROM:+0100
TZOFFSETTO:+0200
TZNAME:CEST
DTSTART:20210328T010000
END:DAYLIGHT
BEGIN:STANDARD
TZOFFSETFROM:+0200
TZOFFSETTO:+0100
TZNAME:CET
DTSTART:20211031T010000
END:STANDARD
BEGIN:DAYLIGHT
TZOFFSETFROM:+0100
TZOFFSETTO:+0200
TZNAME:CEST
DTSTART:20220327T010000
END:DAYLIGHT
BEGIN:STANDARD
TZOFFSETFROM:+0200
TZOFFSETTO:+0100
TZNAME:CET
DTSTART:20221030T010000
END:STANDARD
END:VTIMEZONE
BEGIN:VEVENT
DTSTART;TZID=Europe/Malta:20211117T090000
DTEND;TZID=Europe/Malta:20211117T140000
DTSTAMP:20260422T124759
CREATED:20220113T203247Z
LAST-MODIFIED:20220127T104945Z
UID:10000322-1637139600-1637157600@tech.mt
SUMMARY:ICTSA Industry Expo
DESCRIPTION:Tech.mt is  at the ICTSA – ICT Students’ Association Industry Expo 2021. You can find us at the Faculty of ICT – University of Malta\, Level -1.\nCome and have a chat with us to discover how Tech.mt can support your technological endeavors and beyond.
URL:https://tech.mt/event/ictsa-industry-expo-2/
LOCATION:Faculty of ICT – University of Malta
CATEGORIES:Events participated in by Tech.mt
END:VEVENT
END:VCALENDAR